BEGIN:VCALENDAR
VERSION:2.0
PRODID:-//CDLEX - ECPv6.15.20//NONSGML v1.0//EN
CALSCALE:GREGORIAN
METHOD:PUBLISH
X-ORIGINAL-URL:https://cdlex.org
X-WR-CALDESC:Events for CDLEX
REFRESH-INTERVAL;VALUE=DURATION:PT1H
X-Robots-Tag:noindex
X-PUBLISHED-TTL:PT1H
BEGIN:VTIMEZONE
TZID:America/New_York
BEGIN:DAYLIGHT
TZOFFSETFROM:-0500
TZOFFSETTO:-0400
TZNAME:EDT
DTSTART:20250309T070000
END:DAYLIGHT
BEGIN:STANDARD
TZOFFSETFROM:-0400
TZOFFSETTO:-0500
TZNAME:EST
DTSTART:20251102T060000
END:STANDARD
BEGIN:DAYLIGHT
TZOFFSETFROM:-0500
TZOFFSETTO:-0400
TZNAME:EDT
DTSTART:20260308T070000
END:DAYLIGHT
BEGIN:STANDARD
TZOFFSETFROM:-0400
TZOFFSETTO:-0500
TZNAME:EST
DTSTART:20261101T060000
END:STANDARD
BEGIN:DAYLIGHT
TZOFFSETFROM:-0500
TZOFFSETTO:-0400
TZNAME:EDT
DTSTART:20270314T070000
END:DAYLIGHT
BEGIN:STANDARD
TZOFFSETFROM:-0400
TZOFFSETTO:-0500
TZNAME:EST
DTSTART:20271107T060000
END:STANDARD
END:VTIMEZONE
BEGIN:VEVENT
DTSTART;TZID=America/New_York:20260507T190000
DTEND;TZID=America/New_York:20260507T210000
DTSTAMP:20260421T103924
CREATED:20260416T132450Z
LAST-MODIFIED:20260416T132450Z
UID:10000261-1778180400-1778187600@cdlex.org
SUMMARY:Theology on Tap: How does the Bible define Love?
DESCRIPTION:What does the Bible really mean when it speaks about love? Is it a feeling\, a command\, a sacrifice—or something deeper? \nJoin us for an engaging evening of conversation\, insight\, and community as Dr. Scott Moringiello explores the rich and challenging biblical understanding of love. Together\, we’ll look beyond modern assumptions and uncover how Scripture calls us to live\, love\, and serve in a way that reflects God’s own heart. \nWhether you’re curious\, skeptical\, or deeply rooted in your faith\, this is a space to ask questions\, share perspectives\, and grow. \nCome grab a drink\, bring a friend\, and be part of the conversation.
URL:https://cdlex.org/event/theology-on-tap-how-does-the-bible-define-love/
LOCATION:Mirror Twin Annex\, 732 National Avenue\, Lexington\, 40502\, United States
CATEGORIES:Young Adult
END:VEVENT
END:VCALENDAR