BEGIN:VCALENDAR
VERSION:2.0
PRODID:-//CDLEX - ECPv6.15.20//NONSGML v1.0//EN
CALSCALE:GREGORIAN
METHOD:PUBLISH
X-WR-CALNAME:CDLEX
X-ORIGINAL-URL:https://cdlex.org
X-WR-CALDESC:Events for CDLEX
REFRESH-INTERVAL;VALUE=DURATION:PT1H
X-Robots-Tag:noindex
X-PUBLISHED-TTL:PT1H
BEGIN:VTIMEZONE
TZID:America/New_York
BEGIN:DAYLIGHT
TZOFFSETFROM:-0500
TZOFFSETTO:-0400
TZNAME:EDT
DTSTART:20250309T070000
END:DAYLIGHT
BEGIN:STANDARD
TZOFFSETFROM:-0400
TZOFFSETTO:-0500
TZNAME:EST
DTSTART:20251102T060000
END:STANDARD
BEGIN:DAYLIGHT
TZOFFSETFROM:-0500
TZOFFSETTO:-0400
TZNAME:EDT
DTSTART:20260308T070000
END:DAYLIGHT
BEGIN:STANDARD
TZOFFSETFROM:-0400
TZOFFSETTO:-0500
TZNAME:EST
DTSTART:20261101T060000
END:STANDARD
BEGIN:DAYLIGHT
TZOFFSETFROM:-0500
TZOFFSETTO:-0400
TZNAME:EDT
DTSTART:20270314T070000
END:DAYLIGHT
BEGIN:STANDARD
TZOFFSETFROM:-0400
TZOFFSETTO:-0500
TZNAME:EST
DTSTART:20271107T060000
END:STANDARD
END:VTIMEZONE
BEGIN:VEVENT
DTSTART;VALUE=DATE:20260518
DTEND;VALUE=DATE:20260519
DTSTAMP:20260421T104015
CREATED:20260226T200328Z
LAST-MODIFIED:20260226T200328Z
UID:10000248-1779062400-1779148799@cdlex.org
SUMMARY:St. John I
DESCRIPTION:aint John I was born in Italy and became pope in 523\, during a time of tension between the papacy and the Ostrogothic King Theodoric the Great. Known for his holiness and dedication to the Church\, John I was sent on a delicate diplomatic mission to Constantinople to negotiate with Emperor Justin I regarding the treatment of Arians\, who were causing conflict in Theodoric’s realm. His efforts succeeded in advocating for the Church and for peace among Christians\, demonstrating both courage and prudence. \nTragically\, upon returning to Ravenna\, Pope John I was imprisoned by Theodoric\, who suspected him of favoring the Byzantine Emperor over his own kingdom. Enduring harsh conditions\, John I contracted illness and died in 526\, becoming a martyr through his suffering for the Church and for Christian unity. He is remembered as a courageous shepherd\, committed to peace\, faith\, and the welfare of the faithful\, even at the cost of his life. On his feast day\, May 18\, the Church honors St. John I for his holiness\, courage\, and devotion to Christ and His Church.
URL:https://cdlex.org/event/st-john-i/
CATEGORIES:Feast Day
END:VEVENT
BEGIN:VEVENT
DTSTART;VALUE=DATE:20260520
DTEND;VALUE=DATE:20260521
DTSTAMP:20260421T104015
CREATED:20260226T200504Z
LAST-MODIFIED:20260226T200814Z
UID:10000249-1779235200-1779321599@cdlex.org
SUMMARY:St. Bernadine of Siena
DESCRIPTION:Saint Bernardine of Siena was born in 1380 in Siena and became a Franciscan priest known for his powerful preaching and devotion to reforming Christian life. Deeply moved by the spiritual and moral needs of his time\, he traveled across Italy preaching repentance\, devotion to the Holy Name of Jesus\, and peace among warring factions. Bernardine emphasized the importance of love\, humility\, and devotion to God\, encouraging both clergy and laity to live holy and virtuous lives. \nHe became especially known for popularizing the IHS monogram\, symbolizing the name of Jesus\, and promoting its veneration throughout Italy. His sermons were marked by both fervent passion and pastoral care\, attracting large crowds and inspiring many to conversion. Despite opposition and occasional danger\, Bernardine remained unwavering in his mission to bring people closer to Christ. He died in 1444\, leaving a legacy of preaching\, devotion\, and reform. On his feast day\, May 20\, the Church honors Saint Bernardine of Siena for his zeal\, holiness\, and tireless dedication to spreading the Gospel.
URL:https://cdlex.org/event/st-bernadine-of-siena/
CATEGORIES:Feast Day
END:VEVENT
BEGIN:VEVENT
DTSTART;VALUE=DATE:20260522
DTEND;VALUE=DATE:20260523
DTSTAMP:20260421T104015
CREATED:20260226T201138Z
LAST-MODIFIED:20260226T201138Z
UID:10000250-1779408000-1779494399@cdlex.org
SUMMARY:St. Rita of Cascia
DESCRIPTION:Saint Rita of Cascia was born in 1381 in Roccaporena and is known as the “Saint of the Impossible” for her extraordinary life of faith\, patience\, and perseverance. From an early age\, Rita desired to dedicate herself to God\, but she was married off to a violent husband to fulfill her family’s wishes. Despite the hardships of her married life\, she responded with patience\, prayer\, and charity\, helping to transform her husband and raising her children in the faith. \nAfter the death of her husband and children\, Rita entered the Augustinian convent in Cascia\, embracing a life of prayer\, penance\, and service. She is renowned for her mystical experiences\, including receiving a wound on her forehead\, known as the “thorn of Christ\,” symbolizing her deep union with His Passion. Saint Rita became a model of forgiveness\, humility\, and trust in God\, often interceding for seemingly impossible causes. She died in 1457\, and her intercession has been sought by countless faithful throughout the centuries. On her feast day\, May 22\, the Church honors her devotion\, perseverance through suffering\, and powerful intercessory prayer.
URL:https://cdlex.org/event/st-rita-of-cascia/
CATEGORIES:Feast Day
END:VEVENT
BEGIN:VEVENT
DTSTART;VALUE=DATE:20260524
DTEND;VALUE=DATE:20260525
DTSTAMP:20260421T104015
CREATED:20260226T201947Z
LAST-MODIFIED:20260226T201947Z
UID:10000251-1779580800-1779667199@cdlex.org
SUMMARY:Pentecost Sunday
DESCRIPTION:Pentecost Sunday\, celebrated fifty days after Easter\, commemorates the descent of the Holy Spirit upon the Apostles as described in Acts 2:1–13. After Jesus’ Resurrection and Ascension\, the Apostles gathered in prayer in Jerusalem\, waiting for the fulfillment of Christ’s promise that they would receive power from on high. Suddenly\, a sound like a mighty rushing wind filled the house\, and tongues of fire appeared\, resting on each of them. Filled with the Holy Spirit\, they began to speak in different languages\, enabling the diverse crowds gathered in Jerusalem for the Feast of Weeks to hear the message of Christ in their own native tongues. What followed was Peter’s bold proclamation of the Gospel — a striking transformation from the disciple who had once denied Jesus — and the baptism of about 3\,000 people that day. Pentecost is often called the “birthday of the Church\,” marking the beginning of its public mission and celebrating the Spirit’s power to unite\, renew\, and send believers forth in faith.
URL:https://cdlex.org/event/pentecost-sunday/
CATEGORIES:Holy Day
END:VEVENT
BEGIN:VEVENT
DTSTART;VALUE=DATE:20260525
DTEND;VALUE=DATE:20260526
DTSTAMP:20260421T104015
CREATED:20260226T202235Z
LAST-MODIFIED:20260226T202305Z
UID:10000252-1779667200-1779753599@cdlex.org
SUMMARY:Blessed Virgin Mary\, Mother of the Church
DESCRIPTION:The title “Mary\, Mother of the Church” reflects the Church’s belief that the Blessed Virgin Mary is not only the Mother of Jesus\, but also the spiritual mother of all who belong to Christ’s Body\, the Church. \nThe foundation for this title comes from the Gospel of John (John 19:25–27). As Jesus hung on the Cross\, He saw His mother standing near the beloved disciple and said to her\, “Woman\, behold your son\,” and to the disciple\, “Behold your mother.” In that moment\, the Church understands that Jesus entrusted Mary not only to John\, but to all disciples throughout time. At the foot of the Cross — the very hour of redemption — Mary’s motherhood was extended to the entire Christian community. \nAfter the Resurrection and Ascension\, Mary remained with the Apostles in prayer\, awaiting the coming of the Holy Spirit at Pentecost (Acts 1:14). Her presence among the early believers highlights her role as a mother within the newborn Church — praying\, interceding\, and supporting its mission from the beginning. \nIn 1964\, during the Second Vatican Council\, Pope Paul VI formally proclaimed Mary as “Mother of the Church\,” affirming what Christians had long believed. In 2018\, Pope Francis established the Memorial of the Blessed Virgin Mary\, Mother of the Church\, to be celebrated each year on the Monday after Pentecost — emphasizing her maternal role in guiding and protecting the Church as it continues its mission. \nHer feast day invites the faithful to reflect on Mary as a model of discipleship: her “yes” at the Annunciation\, her faithfulness at the Cross\, and her prayerful presence at Pentecost. As Mother of the Church\, she is seen as a source of unity\, comfort\, and hope — gently leading believers closer to her Son and strengthening the Church in every age.
URL:https://cdlex.org/event/blessed-virgin-mary-mother-of-the-church/
CATEGORIES:Feast Day
END:VEVENT
BEGIN:VEVENT
DTSTART;TZID=America/New_York:20260530T100000
DTEND;TZID=America/New_York:20260530T140000
DTSTAMP:20260421T104015
CREATED:20260324T193034Z
LAST-MODIFIED:20260324T193034Z
UID:10000254-1780135200-1780149600@cdlex.org
SUMMARY:A Celebration of the life of  Father John Rausch
DESCRIPTION:The Laudato Si Commission is planning to celebrate the life of Father John Rausch at 10 a.m. on Saturday\, May 30 at Good Shepherd Church in Campton. I hope you’ll make plans to attend and also to distribute the flyer with the information that I’ve attached. The PDF should drop into a church bulletin fairly easily\, but feel free to include just the time\, date and location if that would be more appropriate for your bulletin.\n\nThanks for helping us get the word out. And don’t forget–nobody loved a good potluck more than Father John!
URL:https://cdlex.org/event/a-celebration-of-the-life-of-father-john-rausch/
LOCATION:Good Shepherd Catholic Church\, 532 Main Street\, Campton\, KY\, 41301\, United States
CATEGORIES:Happening in the Diocese
END:VEVENT
BEGIN:VEVENT
DTSTART;TZID=America/New_York:20260606T103000
DTEND;TZID=America/New_York:20260606T103000
DTSTAMP:20260421T104015
CREATED:20260416T131107Z
LAST-MODIFIED:20260416T131107Z
UID:10000260-1780741800-1780741800@cdlex.org
SUMMARY:Matt Smyser's Ordination to the Priesthood
DESCRIPTION:We are pleased to announce that Bishop John Stowe has officially called Deacon Matt Smyser to the Order of the Presbyterate. His ordination to the priesthood will take place on Saturday\, June 6\, 2026\, at the Cathedral of Christ the King in Lexington. \nThis is a joyful moment for our community as we give thanks to God for His call and for Deacon Matt’s faithful years of discernment and his generous response to serve. \nAll are warmly invited to keep Deacon Matt in prayer during these final weeks of preparation and to join in celebrating this special occasion.
URL:https://cdlex.org/event/matt-smysers-ordination-to-the-priesthood/
CATEGORIES:Special Masses
END:VEVENT
END:VCALENDAR