BEGIN:VCALENDAR
VERSION:2.0
PRODID:-//CDLEX - ECPv6.15.20//NONSGML v1.0//EN
CALSCALE:GREGORIAN
METHOD:PUBLISH
X-WR-CALNAME:CDLEX
X-ORIGINAL-URL:https://cdlex.org
X-WR-CALDESC:Events for CDLEX
REFRESH-INTERVAL;VALUE=DURATION:PT1H
X-Robots-Tag:noindex
X-PUBLISHED-TTL:PT1H
BEGIN:VTIMEZONE
TZID:America/New_York
BEGIN:DAYLIGHT
TZOFFSETFROM:-0500
TZOFFSETTO:-0400
TZNAME:EDT
DTSTART:20250309T070000
END:DAYLIGHT
BEGIN:STANDARD
TZOFFSETFROM:-0400
TZOFFSETTO:-0500
TZNAME:EST
DTSTART:20251102T060000
END:STANDARD
BEGIN:DAYLIGHT
TZOFFSETFROM:-0500
TZOFFSETTO:-0400
TZNAME:EDT
DTSTART:20260308T070000
END:DAYLIGHT
BEGIN:STANDARD
TZOFFSETFROM:-0400
TZOFFSETTO:-0500
TZNAME:EST
DTSTART:20261101T060000
END:STANDARD
BEGIN:DAYLIGHT
TZOFFSETFROM:-0500
TZOFFSETTO:-0400
TZNAME:EDT
DTSTART:20270314T070000
END:DAYLIGHT
BEGIN:STANDARD
TZOFFSETFROM:-0400
TZOFFSETTO:-0500
TZNAME:EST
DTSTART:20271107T060000
END:STANDARD
END:VTIMEZONE
BEGIN:VEVENT
DTSTART;VALUE=DATE:20260413
DTEND;VALUE=DATE:20260414
DTSTAMP:20260421T103813
CREATED:20260226T193145Z
LAST-MODIFIED:20260226T193145Z
UID:10000236-1776038400-1776124799@cdlex.org
SUMMARY:St. Martin I
DESCRIPTION:St. Martin I was born around 590 and became pope in 649 during a time of great turmoil in the Church. He courageously defended the true teaching of the Church against the heresy of Monothelitism\, which falsely claimed that Christ had only one divine will rather than both a human and divine will. Pope Martin spoke clearly and boldly against this error\, emphasizing the fullness of Christ’s humanity and divinity. His steadfast defense of orthodoxy angered the Byzantine emperor\, who had promoted the heresy\, leading to Martin’s arrest. \nHe was brutally tried\, imprisoned\, and exiled to Cherson in the Crimea\, enduring harsh conditions for nearly two years. Despite suffering and isolation\, Martin never wavered in faith\, offering comfort and spiritual guidance to fellow captives. He died in exile in 655\, recognized by the Church as a martyr for the faith. Martin I is remembered as a model of courage\, fidelity\, and unwavering commitment to the truth of the Gospel\, even in the face of persecution.
URL:https://cdlex.org/event/st-martin-i/
CATEGORIES:Feast Day
END:VEVENT
BEGIN:VEVENT
DTSTART;VALUE=DATE:20260412
DTEND;VALUE=DATE:20260413
DTSTAMP:20260421T103813
CREATED:20260401T183537Z
LAST-MODIFIED:20260401T183537Z
UID:10000258-1775952000-1776038399@cdlex.org
SUMMARY:Divine Mercy Sunday
DESCRIPTION:Divine Mercy Sunday finds its origins in the revelations received by Faustina Kowalska\, a Polish nun in the early 20th century. In her visions\, Jesus revealed His deep desire that the world come to know and trust in His mercy. He asked that the first Sunday after Easter be set aside as a special feast dedicated to Divine Mercy—a day when all are invited to turn back to Him with confidence and hope. The message she recorded in her diary centers on a simple but powerful truth: no sin is greater than God’s mercy\, and all who seek it will find forgiveness and peace. \nThis devotion was embraced by the Church and formally established by Pope John Paul II in 2000\, the same day he canonized St. Faustina. Divine Mercy Sunday highlights the gifts of grace available through the Sacraments\, especially Confession and the Eucharist\, and encourages acts of mercy toward others. The image of the Divine Mercy—showing rays of red and white light flowing from Christ’s heart—reminds us of the blood and water poured out for the salvation of the world. \nToday\, Divine Mercy Sunday is celebrated by Catholics around the globe as a day of profound trust\, healing\, and renewal. Through prayer\, especially the Divine Mercy Chaplet\, and a spirit of compassion\, the faithful are invited not only to receive God’s mercy but to share it. It is a beautiful reminder that even in our brokenness\, we are never beyond the reach of Christ’s love.
URL:https://cdlex.org/event/divine-mercy-sunday-2/
CATEGORIES:Feast Day
END:VEVENT
BEGIN:VEVENT
DTSTART;VALUE=DATE:20260412
DTEND;VALUE=DATE:20260413
DTSTAMP:20260421T103813
CREATED:20260226T194843Z
LAST-MODIFIED:20260226T194843Z
UID:10000243-1775952000-1776038399@cdlex.org
SUMMARY:Divine Mercy Sunday
DESCRIPTION:Divine Mercy Sunday is a feast established by Pope John Paul II and celebrated on the Sunday after Easter. It honors the merciful love of God revealed through Jesus Christ\, emphasizing forgiveness\, trust\, and compassion. The feast is rooted in the visions of St. Faustina Kowalska\, a Polish nun who received private revelations from Jesus in the 1930s. Jesus asked her to promote a devotion to His Divine Mercy\, promising that “the soul that will go to Confession and receive Holy Communion shall obtain complete forgiveness of sins and punishment” (Diary of St. Faustina\, 699). \nDivine Mercy Sunday invites the faithful to celebrate God’s infinite mercy through prayer\, the sacraments\, and acts of charity. Central to the devotion is the image of Jesus with rays of red and pale light streaming from His heart\, symbolizing the blood and water poured out for humanity. The Church encourages confession\, Eucharist\, and veneration of the image to grow in trust in God’s mercy and to extend mercy to others in daily life. This feast is a reminder that no one is beyond God’s love and that all are called to live in forgiveness\, compassion\, and hope.
URL:https://cdlex.org/event/divine-mercy-sunday/
END:VEVENT
BEGIN:VEVENT
DTSTART;VALUE=DATE:20260411
DTEND;VALUE=DATE:20260412
DTSTAMP:20260421T103813
CREATED:20260401T183245Z
LAST-MODIFIED:20260401T183245Z
UID:10000257-1775865600-1775951999@cdlex.org
SUMMARY:St. Stanislaus
DESCRIPTION:Stanislaus of Szczepanów (c. 1030–1079) was a bishop and martyr known for his courage in defending truth and justice. Born in Poland\, he eventually became Bishop of Kraków\, where he served his people with great pastoral care and moral conviction. He was deeply committed to the spiritual well-being of his community and was known for preaching boldly\, even when it placed him at odds with powerful leaders. \nStanislaus is most remembered for his conflict with Bolesław II the Bold. When the king’s actions became unjust and harmful\, Stanislaus spoke out and ultimately excommunicated him—a decision that led to serious consequences. In 1079\, while celebrating Mass\, Stanislaus was killed on the king’s orders\, becoming a martyr for his faith and his unwavering stand for righteousness. \nHe was later canonized and is honored as one of Poland’s patron saints. St. Stanislaus remains a powerful example of fidelity to God\, reminding us that faith sometimes calls for courage in the face of opposition and a willingness to stand for truth\, no matter the cost.
URL:https://cdlex.org/event/st-stanislaus/
CATEGORIES:Feast Day
END:VEVENT
BEGIN:VEVENT
DTSTART;VALUE=DATE:20260407
DTEND;VALUE=DATE:20260408
DTSTAMP:20260421T103813
CREATED:20260401T183117Z
LAST-MODIFIED:20260401T183117Z
UID:10000256-1775520000-1775606399@cdlex.org
SUMMARY:St. John Baptist de La Salle
DESCRIPTION:John Baptist de La Salle (1651–1719) was a French priest and educator who dedicated his life to transforming education for the poor. Born into a wealthy family in Reims\, he was expected to live a comfortable life\, but instead felt called to serve others through the Church. After being ordained a priest\, he became involved in efforts to educate disadvantaged boys—an experience that would shape his life’s mission. \nAt a time when education was largely reserved for the wealthy\, De La Salle committed himself to creating schools accessible to all\, especially the poor. He founded the Institute of the Brothers of the Christian Schools\, a community of laymen dedicated to teaching. He pioneered innovative methods such as teaching in the vernacular rather than Latin\, grouping students by ability\, and training teachers to work as a unified community. His approach laid the foundation for modern classroom education. \nDespite facing financial hardship\, opposition\, and personal sacrifice—including giving up his wealth—De La Salle remained devoted to his mission. His work spread throughout France and beyond\, leaving a lasting legacy in Catholic education. He was canonized in 1900 and later declared the patron saint of teachers\, reminding us of the transformative power of education rooted in faith\, dignity\, and care for every student. 
URL:https://cdlex.org/event/st-john-baptist-de-la-salle/
CATEGORIES:Feast Day
END:VEVENT
BEGIN:VEVENT
DTSTART;VALUE=DATE:20260405
DTEND;VALUE=DATE:20260406
DTSTAMP:20260421T103813
CREATED:20260226T192943Z
LAST-MODIFIED:20260226T192943Z
UID:10000235-1775347200-1775433599@cdlex.org
SUMMARY:Easter Sunday
DESCRIPTION:Easter Sunday celebrates the glorious Resurrection of Jesus Christ\, the central event of the Christian faith. On the morning of the third day after His crucifixion\, women disciples went to the tomb and found it empty. As Scripture recounts\, “He is not here; he has risen\, just as he said. Come and see the place where he lay” (Matthew 28:6). Angels announced the good news\, and the disciples were filled with joy and awe. The Resurrection confirmed Jesus as the Son of God\, triumphant over sin and death\, and fulfilled God’s promise of salvation for all humanity. \nThe Resurrection transformed sorrow into hope\, despair into joy\, and fear into courage. Jesus appeared to His disciples\, saying\, “Peace be with you” (John 20:19)\, offering them forgiveness and commissioning them to share His message of love and eternal life. Easter Sunday is a day of victory\, celebrating that life and light have overcome darkness and death. It invites all believers to live in the joy of the Resurrection\, embracing a life renewed in Christ’s love.
URL:https://cdlex.org/event/easter-sunday/
CATEGORIES:Holy Day
END:VEVENT
BEGIN:VEVENT
DTSTART;VALUE=DATE:20260404
DTEND;VALUE=DATE:20260405
DTSTAMP:20260421T103813
CREATED:20260401T182911Z
LAST-MODIFIED:20260401T185250Z
UID:10000255-1775260800-1775347199@cdlex.org
SUMMARY:St. Isidore of Seville
DESCRIPTION:Isidore the Farmer (c. 1070–1130) was a humble farm laborer from Madrid\, known for his deep faith and devotion to prayer. Despite long days in the fields\, he remained committed to attending Mass and entrusting his work to God. According to tradition\, when his dedication was questioned\, angels were seen helping with his labor—revealing the harmony between his faith and daily responsibilities. \nIsidore and his wife\, Maria de la Cabeza\, were known for their generosity\, especially toward the poor. Many miracles are attributed to him\, including the multiplication of food and the gift of water in times of need. \nHonored as the patron saint of farmers and rural communities\, St. Isidore reminds us that holiness is found in ordinary work offered with love\, humility\, and trust in God.
URL:https://cdlex.org/event/st-isidore-of-seville/
CATEGORIES:Feast Day
END:VEVENT
BEGIN:VEVENT
DTSTART;VALUE=DATE:20260404
DTEND;VALUE=DATE:20260405
DTSTAMP:20260421T103813
CREATED:20260226T192759Z
LAST-MODIFIED:20260226T192759Z
UID:10000234-1775260800-1775347199@cdlex.org
SUMMARY:Holy Saturday (Easter Vigil)
DESCRIPTION:Holy Saturday is the day of waiting and quiet reflection\, commemorating the time when Jesus’ body lay in the tomb following His crucifixion. It is a day of mourning for the death of Christ\, but also a day of hope\, as the faithful remember that God’s plan of salvation was already at work even in apparent silence. Scripture recalls the burial: “Joseph took the body\, wrapped it in a clean linen cloth\, and laid it in his own new tomb\, which he had cut out of the rock” (Matthew 27:59–60). The disciples and followers of Jesus watched in sorrow\, uncertain of what the future held\, while God prepared the victory of the Resurrection. \nThe Easter Vigil celebrated on Holy Saturday night is the Church’s most solemn celebration\, marking the transition from mourning to joy. During the vigil\, the Paschal candle is lit\, symbolizing the light of Christ breaking through the darkness of sin and death. The readings recount salvation history\, from creation and the Exodus to the prophecies of the Messiah\, culminating in the joy of Christ’s Resurrection. Holy Saturday reminds the faithful that God’s work is often hidden\, and His promises are fulfilled in His perfect timing\, inviting believers to trust in His love even in moments of uncertainty. \nPrayer:Lord Jesus\, on this Holy Saturday\, You rested in the tomb\, and yet Your victory over death was already at work. Help us to trust in Your timing\, to keep hope alive in moments of darkness\, and to prepare our hearts to rejoice in Your Resurrection. May we always walk in Your light and live in the joy of Your saving grace. Amen.
URL:https://cdlex.org/event/holy-saturday-easter-vigil/
CATEGORIES:Holy Day
END:VEVENT
BEGIN:VEVENT
DTSTART;VALUE=DATE:20260403
DTEND;VALUE=DATE:20260404
DTSTAMP:20260421T103813
CREATED:20260226T192405Z
LAST-MODIFIED:20260226T192405Z
UID:10000233-1775174400-1775260799@cdlex.org
SUMMARY:Good Friday
DESCRIPTION:Good Friday commemorates the suffering and death of Jesus Christ on the cross\, the ultimate act of love for the salvation of humanity. On this solemn day\, the Church remembers how Jesus was betrayed by Judas\, arrested\, condemned by Pilate\, and led to Calvary\, carrying His cross along the way. As Scripture recounts\, “Carrying his own cross\, he went out to the place called the Place of the Skull\, in Hebrew\, Golgotha” (John 19:17). There\, He was crucified between two criminals\, enduring mocking\, pain\, and abandonment\, yet He prayed\, “Father\, forgive them\, for they know not what they do” (Luke 23:34)\, showing boundless mercy even in suffering. \nJesus’ death fulfilled the prophecies of the Scriptures and brought salvation to the world. As He cried out\, “It is finished” (John 19:30)\, the price of sin was paid\, and the way to eternal life was opened. Good Friday invites the faithful into deep contemplation of Christ’s Passion\, calling them to unite their own suffering with His and to reflect on the power of sacrificial love. Though it is a day of mourning\, it is also a day of profound hope\, pointing toward the Resurrection that is to come. \nPrayer:Lord Jesus\, by Your cross and passion\, You redeemed the world. Help us to carry our own crosses with patience and love\, uniting our sufferings to Yours. Teach us forgiveness\, humility\, and trust in Your mercy. May we always remember the price of our salvation and walk in Your footsteps until we share in the joy of Your Resurrection. Amen.
URL:https://cdlex.org/event/good-friday/
CATEGORIES:Feast Day
END:VEVENT
BEGIN:VEVENT
DTSTART;VALUE=DATE:20260402
DTEND;VALUE=DATE:20260403
DTSTAMP:20260421T103813
CREATED:20260226T192220Z
LAST-MODIFIED:20260226T192220Z
UID:10000232-1775088000-1775174399@cdlex.org
SUMMARY:Holy Thursday
DESCRIPTION:Holy Thursday commemorates the night of the Last Supper\, when Jesus gathered with His apostles to celebrate the Passover before His Passion. During the meal\, He took bread and wine and gave them a new and eternal meaning\, instituting the Eucharist and the priesthood. As recorded in Scripture\, “While they were eating\, Jesus took bread\, said the blessing\, broke it\, and giving it to his disciples said\, ‘Take and eat; this is my body.’ Then he took a cup… ‘Drink from it\, all of you\, for this is my blood of the covenant’” (Matthew 26:26–28). In this sacred moment\, Christ gave the Church the gift of His abiding presence in the Blessed Sacrament. \nOn that same night\, Jesus offered a profound example of humble service. Rising from the table\, He washed the feet of His disciples\, saying\, “I have given you a model to follow\, so that as I have done for you\, you should also do” (John 13:15). The Master became the servant\, revealing that greatness in God’s kingdom is found in self-giving love. Holy Thursday thus calls the faithful not only to adore Christ in the Eucharist\, but also to imitate His charity and humility in daily life. \nAfter the meal\, Jesus went to the Garden of Gethsemane to pray in anguish\, fully aware of the suffering that awaited Him. “Father\, if it is possible\, let this cup pass from me; yet\, not as I will\, but as you will” (Matthew 26:39). His surrender to the Father’s will opened the way to salvation. Holy Thursday invites the Church to keep watch with Him\, entering into the mystery of His love poured out for the world. \nPrayer:Lord Jesus\, on the night before You died\, You gave us the gift of Your Body and Blood and showed us the way of humble service. Teach us to love as You love\, to serve without counting the cost\, and to remain faithful to You in times of trial. May we draw strength from the Eucharist and stay close to You always. Amen.
URL:https://cdlex.org/event/holy-thursday/
CATEGORIES:Feast Day
END:VEVENT
BEGIN:VEVENT
DTSTART;TZID=America/New_York:20260331T103000
DTEND;TZID=America/New_York:20260331T103000
DTSTAMP:20260421T103813
CREATED:20260318T151441Z
LAST-MODIFIED:20260320T193228Z
UID:10000253-1774953000-1774953000@cdlex.org
SUMMARY:Chrism Mass
DESCRIPTION:All are warmly invited to gather in faith and unity for our Annual Chrism Mass—a beautiful and sacred celebration of our shared calling as the People of God. \nJoin us as we witness the blessing of the holy oils\, the renewal of priestly promises\, and the deepening of our connection as a diocesan family. This special liturgy is a powerful reminder of the presence of Christ in our lives and in the life of the Church. \nWhether you are a longtime parishioner or visiting for the first time\, you are welcome here. Come experience the richness of tradition\, the strength of community\, and the grace of this holy celebration. \nWe look forward to welcoming you.
URL:https://cdlex.org/event/chrism-mass/
CATEGORIES:Special Masses
END:VEVENT
BEGIN:VEVENT
DTSTART;VALUE=DATE:20260329
DTEND;VALUE=DATE:20260330
DTSTAMP:20260421T103813
CREATED:20260226T192009Z
LAST-MODIFIED:20260226T192009Z
UID:10000231-1774742400-1774828799@cdlex.org
SUMMARY:Palm Sunday
DESCRIPTION:Palm Sunday marks the beginning of Holy Week and commemorates Jesus’ triumphant entry into Jerusalem\, just days before His Passion and death. As He approached the city\, riding humbly on a donkey\, the crowds spread cloaks and palm branches on the road before Him\, shouting with joy\, “Hosanna! Blessed is he who comes in the name of the Lord!” (Mark 11:9). This moment fulfilled the prophecy of Zechariah: “Behold\, your king comes to you; triumphant and victorious is he\, humble and riding on a donkey” (Zechariah 9:9). The people welcomed Him as a king\, yet His kingdom was not one of earthly power\, but of sacrificial love. \nThe liturgy of Palm Sunday holds both triumph and sorrow together. The celebration begins with palms and praise\, but the Gospel soon turns to the reading of the Passion\, recalling Christ’s suffering and crucifixion. The same crowds who cried “Hosanna” would later shout\, “Crucify him!” (Mark 15:13). In this\, the Church invites the faithful to reflect on the mystery of human weakness and divine mercy. Jesus enters Jerusalem knowing the cross awaits Him\, yet He proceeds willingly\, embracing the Father’s will for the salvation of the world. \nPalm Sunday reminds believers that true kingship is revealed through humility and self-giving love. As the faithful carry blessed palms in procession\, they not only remember Christ’s entry into Jerusalem but also welcome Him anew into their own hearts\, preparing to walk with Him through the solemn days of His Passion\, death\, and Resurrection. \nPrayer:Lord Jesus\, You entered Jerusalem in humility and peace\, accepting the path of suffering for our salvation. As we wave our palms and proclaim You as King\, help us to follow You not only in moments of joy\, but also along the way of the Cross. Strengthen our faith\, deepen our love\, and lead us through the sorrow of Holy Week to the glory of Your Resurrection. Amen.
URL:https://cdlex.org/event/palm-sunday/
CATEGORIES:Feast Day
END:VEVENT
BEGIN:VEVENT
DTSTART;VALUE=DATE:20260325
DTEND;VALUE=DATE:20260326
DTSTAMP:20260421T103813
CREATED:20260226T191716Z
LAST-MODIFIED:20260226T191716Z
UID:10000230-1774396800-1774483199@cdlex.org
SUMMARY:The Annunciation of the Lord
DESCRIPTION:The Annunciation of the Lord commemorates the moment when the angel Gabriel was sent by God to a young virgin named Mary in the town of Nazareth. As recorded in the Gospel of Luke\, the angel greeted her with the words\, “Hail\, full of grace\,” and announced that she had been chosen to bear a son who would be called Jesus\, the Son of the Most High. Though troubled at first and unsure how this could be\, since she had not known man\, Mary listened with faith as Gabriel explained that the Holy Spirit would come upon her and that nothing would be impossible for God. \nIn a profound act of humility and trust\, Mary gave her consent\, saying\, “Behold\, I am the handmaid of the Lord; let it be done to me according to your word.” At that moment\, Christians believe\, the eternal Son of God took on human flesh in her womb. The Annunciation marks the mystery of the Incarnation — God becoming man — and stands as one of the most significant events in salvation history. \nCelebrated nine months before Christmas\, on March 25\, this feast honors not only Christ’s conception but also Mary’s faithful “yes” to God’s plan. The Church looks to her response as a model of obedience\, courage\, and trust\, reminding the faithful that God’s greatest works often begin in quiet surrender to His will.
URL:https://cdlex.org/event/the-annunciation-of-the-lord/
CATEGORIES:Feast Day
END:VEVENT
END:VCALENDAR