BEGIN:VCALENDAR
VERSION:2.0
PRODID:-//CDLEX - ECPv6.15.20//NONSGML v1.0//EN
CALSCALE:GREGORIAN
METHOD:PUBLISH
X-ORIGINAL-URL:https://cdlex.org
X-WR-CALDESC:Events for CDLEX
REFRESH-INTERVAL;VALUE=DURATION:PT1H
X-Robots-Tag:noindex
X-PUBLISHED-TTL:PT1H
BEGIN:VTIMEZONE
TZID:America/New_York
BEGIN:DAYLIGHT
TZOFFSETFROM:-0500
TZOFFSETTO:-0400
TZNAME:EDT
DTSTART:20250309T070000
END:DAYLIGHT
BEGIN:STANDARD
TZOFFSETFROM:-0400
TZOFFSETTO:-0500
TZNAME:EST
DTSTART:20251102T060000
END:STANDARD
BEGIN:DAYLIGHT
TZOFFSETFROM:-0500
TZOFFSETTO:-0400
TZNAME:EDT
DTSTART:20260308T070000
END:DAYLIGHT
BEGIN:STANDARD
TZOFFSETFROM:-0400
TZOFFSETTO:-0500
TZNAME:EST
DTSTART:20261101T060000
END:STANDARD
BEGIN:DAYLIGHT
TZOFFSETFROM:-0500
TZOFFSETTO:-0400
TZNAME:EDT
DTSTART:20270314T070000
END:DAYLIGHT
BEGIN:STANDARD
TZOFFSETFROM:-0400
TZOFFSETTO:-0500
TZNAME:EST
DTSTART:20271107T060000
END:STANDARD
END:VTIMEZONE
BEGIN:VEVENT
DTSTART;TZID=America/New_York:20260530T100000
DTEND;TZID=America/New_York:20260530T140000
DTSTAMP:20260425T081500
CREATED:20260324T193034Z
LAST-MODIFIED:20260324T193034Z
UID:10000254-1780135200-1780149600@cdlex.org
SUMMARY:A Celebration of the life of  Father John Rausch
DESCRIPTION:The Laudato Si Commission is planning to celebrate the life of Father John Rausch at 10 a.m. on Saturday\, May 30 at Good Shepherd Church in Campton. I hope you’ll make plans to attend and also to distribute the flyer with the information that I’ve attached. The PDF should drop into a church bulletin fairly easily\, but feel free to include just the time\, date and location if that would be more appropriate for your bulletin.\n\nThanks for helping us get the word out. And don’t forget–nobody loved a good potluck more than Father John!
URL:https://cdlex.org/event/a-celebration-of-the-life-of-father-john-rausch/
LOCATION:Good Shepherd Catholic Church\, 532 Main Street\, Campton\, KY\, 41301\, United States
CATEGORIES:Happening in the Diocese
END:VEVENT
BEGIN:VEVENT
DTSTART;TZID=America/New_York:20260606T103000
DTEND;TZID=America/New_York:20260606T103000
DTSTAMP:20260425T081500
CREATED:20260416T131107Z
LAST-MODIFIED:20260416T131107Z
UID:10000260-1780741800-1780741800@cdlex.org
SUMMARY:Matt Smyser's Ordination to the Priesthood
DESCRIPTION:We are pleased to announce that Bishop John Stowe has officially called Deacon Matt Smyser to the Order of the Presbyterate. His ordination to the priesthood will take place on Saturday\, June 6\, 2026\, at the Cathedral of Christ the King in Lexington. \nThis is a joyful moment for our community as we give thanks to God for His call and for Deacon Matt’s faithful years of discernment and his generous response to serve. \nAll are warmly invited to keep Deacon Matt in prayer during these final weeks of preparation and to join in celebrating this special occasion.
URL:https://cdlex.org/event/matt-smysers-ordination-to-the-priesthood/
CATEGORIES:Special Masses
END:VEVENT
END:VCALENDAR