BEGIN:VCALENDAR
VERSION:2.0
PRODID:-//CDLEX - ECPv6.15.20//NONSGML v1.0//EN
CALSCALE:GREGORIAN
METHOD:PUBLISH
X-ORIGINAL-URL:https://cdlex.org
X-WR-CALDESC:Events for CDLEX
REFRESH-INTERVAL;VALUE=DURATION:PT1H
X-Robots-Tag:noindex
X-PUBLISHED-TTL:PT1H
BEGIN:VTIMEZONE
TZID:America/New_York
BEGIN:DAYLIGHT
TZOFFSETFROM:-0500
TZOFFSETTO:-0400
TZNAME:EDT
DTSTART:20250309T070000
END:DAYLIGHT
BEGIN:STANDARD
TZOFFSETFROM:-0400
TZOFFSETTO:-0500
TZNAME:EST
DTSTART:20251102T060000
END:STANDARD
BEGIN:DAYLIGHT
TZOFFSETFROM:-0500
TZOFFSETTO:-0400
TZNAME:EDT
DTSTART:20260308T070000
END:DAYLIGHT
BEGIN:STANDARD
TZOFFSETFROM:-0400
TZOFFSETTO:-0500
TZNAME:EST
DTSTART:20261101T060000
END:STANDARD
BEGIN:DAYLIGHT
TZOFFSETFROM:-0500
TZOFFSETTO:-0400
TZNAME:EDT
DTSTART:20270314T070000
END:DAYLIGHT
BEGIN:STANDARD
TZOFFSETFROM:-0400
TZOFFSETTO:-0500
TZNAME:EST
DTSTART:20271107T060000
END:STANDARD
END:VTIMEZONE
BEGIN:VEVENT
DTSTART;VALUE=DATE:20260502
DTEND;VALUE=DATE:20260503
DTSTAMP:20260425T145429
CREATED:20260226T195430Z
LAST-MODIFIED:20260226T195430Z
UID:10000245-1777680000-1777766399@cdlex.org
SUMMARY:St. Athanasius
DESCRIPTION:Saint Athanasius of Alexandria was born around 296 in Egypt and became one of the Church’s most steadfast defenders of the Christian faith. As bishop of Alexandria\, he faced the Arian heresy\, which denied the full divinity of Jesus Christ. Athanasius courageously defended the truth of the Nicene Creed\, insisting that Christ is fully God and fully man. His unwavering stance led to multiple exiles\, totaling nearly 17 years of hardship\, yet he remained faithful to his episcopal duties and continued to write theological works that shaped the Church’s understanding of Christology. \nAthanasius is also remembered for his pastoral care\, particularly his guidance of monastic communities in the deserts of Egypt and his commitment to the spiritual formation of his flock. His most famous work\, On the Incarnation\, articulates the profound mystery of God becoming human to bring salvation to the world. Despite persecution\, exile\, and political pressure\, Athanasius never compromised the truth\, earning the title Doctor of the Church for his wisdom\, courage\, and enduring influence. On his feast day\, May 2\, the Church honors Saint Athanasius for his defense of orthodoxy\, his theological brilliance\, and his steadfast commitment to Christ.
URL:https://cdlex.org/event/st-athanasius/
CATEGORIES:Feast Day
END:VEVENT
END:VCALENDAR