BEGIN:VCALENDAR
VERSION:2.0
PRODID:-//CDLEX - ECPv6.15.20//NONSGML v1.0//EN
CALSCALE:GREGORIAN
METHOD:PUBLISH
X-WR-CALNAME:CDLEX
X-ORIGINAL-URL:https://cdlex.org
X-WR-CALDESC:Events for CDLEX
REFRESH-INTERVAL;VALUE=DURATION:PT1H
X-Robots-Tag:noindex
X-PUBLISHED-TTL:PT1H
BEGIN:VTIMEZONE
TZID:America/New_York
BEGIN:DAYLIGHT
TZOFFSETFROM:-0500
TZOFFSETTO:-0400
TZNAME:EDT
DTSTART:20250309T070000
END:DAYLIGHT
BEGIN:STANDARD
TZOFFSETFROM:-0400
TZOFFSETTO:-0500
TZNAME:EST
DTSTART:20251102T060000
END:STANDARD
BEGIN:DAYLIGHT
TZOFFSETFROM:-0500
TZOFFSETTO:-0400
TZNAME:EDT
DTSTART:20260308T070000
END:DAYLIGHT
BEGIN:STANDARD
TZOFFSETFROM:-0400
TZOFFSETTO:-0500
TZNAME:EST
DTSTART:20261101T060000
END:STANDARD
BEGIN:DAYLIGHT
TZOFFSETFROM:-0500
TZOFFSETTO:-0400
TZNAME:EDT
DTSTART:20270314T070000
END:DAYLIGHT
BEGIN:STANDARD
TZOFFSETFROM:-0400
TZOFFSETTO:-0500
TZNAME:EST
DTSTART:20271107T060000
END:STANDARD
END:VTIMEZONE
BEGIN:VEVENT
DTSTART;VALUE=DATE:20260501
DTEND;VALUE=DATE:20260502
DTSTAMP:20260425T131231
CREATED:20260226T195151Z
LAST-MODIFIED:20260226T195151Z
UID:10000244-1777593600-1777679999@cdlex.org
SUMMARY:St. Joseph\, the Worker
DESCRIPTION:Saint Joseph the Worker honors the life of Saint Joseph as the humble\, diligent carpenter who provided for the Holy Family in Nazareth. While Scripture highlights his role as the spouse of Mary and foster father of Jesus\, this feast emphasizes Joseph’s example of faithful labor\, patience\, and integrity. As a skilled craftsman\, he worked with his hands to support his family and lived a life of quiet devotion\, obedience to God\, and service to others. Through his work\, he sanctified daily life\, demonstrating that honest labor and responsibility are ways to glorify God. \nPope Pius XII established this feast in 1955 to provide a model for all workers\, especially in a world where work can be undervalued or exploited. Saint Joseph the Worker reminds the faithful that work is not only a duty but also a vocation and a means of participating in God’s plan. By following his example\, believers are called to approach their work with dedication\, humility\, and a spirit of service\, offering all they do as a prayer to God.
URL:https://cdlex.org/event/st-joseph-the-worker/
CATEGORIES:Feast Day
END:VEVENT
END:VCALENDAR