BEGIN:VCALENDAR
VERSION:2.0
PRODID:-//CDLEX - ECPv6.15.20//NONSGML v1.0//EN
CALSCALE:GREGORIAN
METHOD:PUBLISH
X-ORIGINAL-URL:https://cdlex.org
X-WR-CALDESC:Events for CDLEX
REFRESH-INTERVAL;VALUE=DURATION:PT1H
X-Robots-Tag:noindex
X-PUBLISHED-TTL:PT1H
BEGIN:VTIMEZONE
TZID:America/New_York
BEGIN:DAYLIGHT
TZOFFSETFROM:-0500
TZOFFSETTO:-0400
TZNAME:EDT
DTSTART:20250309T070000
END:DAYLIGHT
BEGIN:STANDARD
TZOFFSETFROM:-0400
TZOFFSETTO:-0500
TZNAME:EST
DTSTART:20251102T060000
END:STANDARD
BEGIN:DAYLIGHT
TZOFFSETFROM:-0500
TZOFFSETTO:-0400
TZNAME:EDT
DTSTART:20260308T070000
END:DAYLIGHT
BEGIN:STANDARD
TZOFFSETFROM:-0400
TZOFFSETTO:-0500
TZNAME:EST
DTSTART:20261101T060000
END:STANDARD
BEGIN:DAYLIGHT
TZOFFSETFROM:-0500
TZOFFSETTO:-0400
TZNAME:EDT
DTSTART:20270314T070000
END:DAYLIGHT
BEGIN:STANDARD
TZOFFSETFROM:-0400
TZOFFSETTO:-0500
TZNAME:EST
DTSTART:20271107T060000
END:STANDARD
END:VTIMEZONE
BEGIN:VEVENT
DTSTART;VALUE=DATE:20260429
DTEND;VALUE=DATE:20260430
DTSTAMP:20260425T131625
CREATED:20260226T194619Z
LAST-MODIFIED:20260401T184046Z
UID:10000242-1777420800-1777507199@cdlex.org
SUMMARY:St. Catherine of Siena
DESCRIPTION:St. Catherine of Siena was born in 1347 in Siena into a devout but modest family. From a young age\, she felt a deep calling to serve God\, dedicating herself to prayer\, fasting\, and caring for the sick and poor. Catherine joined the Dominican Third Order\, allowing her to live a life of religious devotion while remaining in the world. Known for her mystical visions and profound spiritual insight\, she received revelations from Christ and became a powerful voice for reform in the Church\, calling both clergy and laity to holiness and unity. \nCatherine courageously intervened in political and religious disputes of her time\, most notably urging Pope Gregory XI to return the papacy from Avignon to Rome. She was also a prolific writer\, including her famous work The Dialogue of Divine Providence\, which continues to inspire believers in spiritual life and moral courage. Despite her frail health\, Catherine devoted herself entirely to prayer\, service\, and correspondence guiding rulers and ordinary people alike toward God. She died in 1380 at the age of 33 and was canonized in 1461. On her feast day\, April 29\, the Church honors St. Catherine of Siena for her wisdom\, mystical devotion\, and tireless commitment to Christ and His Church.
URL:https://cdlex.org/event/st-catherine-of-siena/
CATEGORIES:Feast Day
END:VEVENT
END:VCALENDAR