BEGIN:VCALENDAR
VERSION:2.0
PRODID:-//CDLEX - ECPv6.15.20//NONSGML v1.0//EN
CALSCALE:GREGORIAN
METHOD:PUBLISH
X-WR-CALNAME:CDLEX
X-ORIGINAL-URL:https://cdlex.org
X-WR-CALDESC:Events for CDLEX
REFRESH-INTERVAL;VALUE=DURATION:PT1H
X-Robots-Tag:noindex
X-PUBLISHED-TTL:PT1H
BEGIN:VTIMEZONE
TZID:America/New_York
BEGIN:DAYLIGHT
TZOFFSETFROM:-0500
TZOFFSETTO:-0400
TZNAME:EDT
DTSTART:20250309T070000
END:DAYLIGHT
BEGIN:STANDARD
TZOFFSETFROM:-0400
TZOFFSETTO:-0500
TZNAME:EST
DTSTART:20251102T060000
END:STANDARD
BEGIN:DAYLIGHT
TZOFFSETFROM:-0500
TZOFFSETTO:-0400
TZNAME:EDT
DTSTART:20260308T070000
END:DAYLIGHT
BEGIN:STANDARD
TZOFFSETFROM:-0400
TZOFFSETTO:-0500
TZNAME:EST
DTSTART:20261101T060000
END:STANDARD
BEGIN:DAYLIGHT
TZOFFSETFROM:-0500
TZOFFSETTO:-0400
TZNAME:EDT
DTSTART:20270314T070000
END:DAYLIGHT
BEGIN:STANDARD
TZOFFSETFROM:-0400
TZOFFSETTO:-0500
TZNAME:EST
DTSTART:20271107T060000
END:STANDARD
END:VTIMEZONE
BEGIN:VEVENT
DTSTART;VALUE=DATE:20260428
DTEND;VALUE=DATE:20260429
DTSTAMP:20260425T131231
CREATED:20260226T194440Z
LAST-MODIFIED:20260226T194440Z
UID:10000241-1777334400-1777420799@cdlex.org
SUMMARY:St. Peter Chanel
DESCRIPTION:St. Peter Chanel was born in 1803 in Cuet\, France and became a priest of the Society of Mary (Marists). Deeply devoted to missionary work\, he felt called to share the Gospel with those who had never heard it. In 1837\, he was sent to the remote Pacific islands\, arriving on Futuna Island to evangelize the local population. There\, he lived a life of prayer\, humility\, and service\, teaching the faith\, ministering to the sick\, and setting an example of Christian virtue. \nDespite his gentleness and dedication\, his efforts provoked hostility among some islanders resistant to conversion. In 1841\, Peter Chanel was martyred—attacked and killed with a spear for his faith—becoming the first martyr of Oceania. His death\, however\, bore fruit: the people who witnessed his life and courage eventually embraced the Christian faith. St. Peter Chanel is remembered for his fearless commitment to Christ\, his selfless missionary zeal\, and his willingness to give his life in love for others. On his feast day\, April 28\, the Church celebrates his courage\, devotion\, and the enduring example of faithfulness to God’s call.
URL:https://cdlex.org/event/st-peter-chanel/
CATEGORIES:Feast Day
END:VEVENT
END:VCALENDAR