BEGIN:VCALENDAR
VERSION:2.0
PRODID:-//CDLEX - ECPv6.15.20//NONSGML v1.0//EN
CALSCALE:GREGORIAN
METHOD:PUBLISH
X-WR-CALNAME:CDLEX
X-ORIGINAL-URL:https://cdlex.org
X-WR-CALDESC:Events for CDLEX
REFRESH-INTERVAL;VALUE=DURATION:PT1H
X-Robots-Tag:noindex
X-PUBLISHED-TTL:PT1H
BEGIN:VTIMEZONE
TZID:America/New_York
BEGIN:DAYLIGHT
TZOFFSETFROM:-0500
TZOFFSETTO:-0400
TZNAME:EDT
DTSTART:20250309T070000
END:DAYLIGHT
BEGIN:STANDARD
TZOFFSETFROM:-0400
TZOFFSETTO:-0500
TZNAME:EST
DTSTART:20251102T060000
END:STANDARD
BEGIN:DAYLIGHT
TZOFFSETFROM:-0500
TZOFFSETTO:-0400
TZNAME:EDT
DTSTART:20260308T070000
END:DAYLIGHT
BEGIN:STANDARD
TZOFFSETFROM:-0400
TZOFFSETTO:-0500
TZNAME:EST
DTSTART:20261101T060000
END:STANDARD
BEGIN:DAYLIGHT
TZOFFSETFROM:-0500
TZOFFSETTO:-0400
TZNAME:EDT
DTSTART:20270314T070000
END:DAYLIGHT
BEGIN:STANDARD
TZOFFSETFROM:-0400
TZOFFSETTO:-0500
TZNAME:EST
DTSTART:20271107T060000
END:STANDARD
END:VTIMEZONE
BEGIN:VEVENT
DTSTART;VALUE=DATE:20260407
DTEND;VALUE=DATE:20260408
DTSTAMP:20260425T131206
CREATED:20260401T183117Z
LAST-MODIFIED:20260401T183117Z
UID:10000256-1775520000-1775606399@cdlex.org
SUMMARY:St. John Baptist de La Salle
DESCRIPTION:John Baptist de La Salle (1651–1719) was a French priest and educator who dedicated his life to transforming education for the poor. Born into a wealthy family in Reims\, he was expected to live a comfortable life\, but instead felt called to serve others through the Church. After being ordained a priest\, he became involved in efforts to educate disadvantaged boys—an experience that would shape his life’s mission. \nAt a time when education was largely reserved for the wealthy\, De La Salle committed himself to creating schools accessible to all\, especially the poor. He founded the Institute of the Brothers of the Christian Schools\, a community of laymen dedicated to teaching. He pioneered innovative methods such as teaching in the vernacular rather than Latin\, grouping students by ability\, and training teachers to work as a unified community. His approach laid the foundation for modern classroom education. \nDespite facing financial hardship\, opposition\, and personal sacrifice—including giving up his wealth—De La Salle remained devoted to his mission. His work spread throughout France and beyond\, leaving a lasting legacy in Catholic education. He was canonized in 1900 and later declared the patron saint of teachers\, reminding us of the transformative power of education rooted in faith\, dignity\, and care for every student. 
URL:https://cdlex.org/event/st-john-baptist-de-la-salle/
CATEGORIES:Feast Day
END:VEVENT
END:VCALENDAR