BEGIN:VCALENDAR
VERSION:2.0
PRODID:-//CDLEX - ECPv6.15.20//NONSGML v1.0//EN
CALSCALE:GREGORIAN
METHOD:PUBLISH
X-WR-CALNAME:CDLEX
X-ORIGINAL-URL:https://cdlex.org
X-WR-CALDESC:Events for CDLEX
REFRESH-INTERVAL;VALUE=DURATION:PT1H
X-Robots-Tag:noindex
X-PUBLISHED-TTL:PT1H
BEGIN:VTIMEZONE
TZID:America/New_York
BEGIN:DAYLIGHT
TZOFFSETFROM:-0500
TZOFFSETTO:-0400
TZNAME:EDT
DTSTART:20250309T070000
END:DAYLIGHT
BEGIN:STANDARD
TZOFFSETFROM:-0400
TZOFFSETTO:-0500
TZNAME:EST
DTSTART:20251102T060000
END:STANDARD
BEGIN:DAYLIGHT
TZOFFSETFROM:-0500
TZOFFSETTO:-0400
TZNAME:EDT
DTSTART:20260308T070000
END:DAYLIGHT
BEGIN:STANDARD
TZOFFSETFROM:-0400
TZOFFSETTO:-0500
TZNAME:EST
DTSTART:20261101T060000
END:STANDARD
BEGIN:DAYLIGHT
TZOFFSETFROM:-0500
TZOFFSETTO:-0400
TZNAME:EDT
DTSTART:20270314T070000
END:DAYLIGHT
BEGIN:STANDARD
TZOFFSETFROM:-0400
TZOFFSETTO:-0500
TZNAME:EST
DTSTART:20271107T060000
END:STANDARD
END:VTIMEZONE
BEGIN:VEVENT
DTSTART;VALUE=DATE:20260520
DTEND;VALUE=DATE:20260521
DTSTAMP:20260425T063231
CREATED:20260226T200504Z
LAST-MODIFIED:20260226T200814Z
UID:10000249-1779235200-1779321599@cdlex.org
SUMMARY:St. Bernadine of Siena
DESCRIPTION:Saint Bernardine of Siena was born in 1380 in Siena and became a Franciscan priest known for his powerful preaching and devotion to reforming Christian life. Deeply moved by the spiritual and moral needs of his time\, he traveled across Italy preaching repentance\, devotion to the Holy Name of Jesus\, and peace among warring factions. Bernardine emphasized the importance of love\, humility\, and devotion to God\, encouraging both clergy and laity to live holy and virtuous lives. \nHe became especially known for popularizing the IHS monogram\, symbolizing the name of Jesus\, and promoting its veneration throughout Italy. His sermons were marked by both fervent passion and pastoral care\, attracting large crowds and inspiring many to conversion. Despite opposition and occasional danger\, Bernardine remained unwavering in his mission to bring people closer to Christ. He died in 1444\, leaving a legacy of preaching\, devotion\, and reform. On his feast day\, May 20\, the Church honors Saint Bernardine of Siena for his zeal\, holiness\, and tireless dedication to spreading the Gospel.
URL:https://cdlex.org/event/st-bernadine-of-siena/
CATEGORIES:Feast Day
END:VEVENT
END:VCALENDAR