BEGIN:VCALENDAR
VERSION:2.0
PRODID:-//CDLEX - ECPv6.15.20//NONSGML v1.0//EN
CALSCALE:GREGORIAN
METHOD:PUBLISH
X-ORIGINAL-URL:https://cdlex.org
X-WR-CALDESC:Events for CDLEX
REFRESH-INTERVAL;VALUE=DURATION:PT1H
X-Robots-Tag:noindex
X-PUBLISHED-TTL:PT1H
BEGIN:VTIMEZONE
TZID:America/New_York
BEGIN:DAYLIGHT
TZOFFSETFROM:-0500
TZOFFSETTO:-0400
TZNAME:EDT
DTSTART:20250309T070000
END:DAYLIGHT
BEGIN:STANDARD
TZOFFSETFROM:-0400
TZOFFSETTO:-0500
TZNAME:EST
DTSTART:20251102T060000
END:STANDARD
BEGIN:DAYLIGHT
TZOFFSETFROM:-0500
TZOFFSETTO:-0400
TZNAME:EDT
DTSTART:20260308T070000
END:DAYLIGHT
BEGIN:STANDARD
TZOFFSETFROM:-0400
TZOFFSETTO:-0500
TZNAME:EST
DTSTART:20261101T060000
END:STANDARD
BEGIN:DAYLIGHT
TZOFFSETFROM:-0500
TZOFFSETTO:-0400
TZNAME:EDT
DTSTART:20270314T070000
END:DAYLIGHT
BEGIN:STANDARD
TZOFFSETFROM:-0400
TZOFFSETTO:-0500
TZNAME:EST
DTSTART:20271107T060000
END:STANDARD
END:VTIMEZONE
BEGIN:VEVENT
DTSTART;VALUE=DATE:20260513
DTEND;VALUE=DATE:20260514
DTSTAMP:20260425T064520
CREATED:20260226T195628Z
LAST-MODIFIED:20260226T202849Z
UID:10000246-1778630400-1778716799@cdlex.org
SUMMARY:Our Lady of Fatima
DESCRIPTION:Our Lady of Fátima refers to the Marian apparitions that appeared in 1917 to three shepherd children — Lucia Santos and her cousins Jacinta Marto and Francisco Marto — in the village of Fátima\, Portugal. Between May 13 and October 13\, the children reported that a “Lady brighter than the sun” appeared to them on the 13th day of each month\, giving messages of prayer\, penance\, and conversion. She asked for devotion to her Immaculate Heart\, encouraged daily recitation of the Rosary\, and revealed visions of heaven\, hell\, and the trials the world might face if people did not turn to God. \nThe most famous moment of these apparitions was the “Miracle of the Sun” on October 13\, 1917\, witnessed by tens of thousands of people\, where the sun appeared to dance in the sky\, radiating extraordinary light and movement. Our Lady’s messages emphasized repentance\, prayer for sinners\, and trust in God’s mercy. The Church eventually recognized these apparitions as worthy of belief\, and devotion to Our Lady of Fátima has inspired millions worldwide to seek holiness\, conversion\, and reconciliation with God. Her feast day\, May 13\, invites the faithful to honor her maternal guidance\, imitate her virtues\, and entrust themselves to her intercession.
URL:https://cdlex.org/event/our-lady-of-fatima/
CATEGORIES:Feast Day
END:VEVENT
END:VCALENDAR