BEGIN:VCALENDAR
VERSION:2.0
PRODID:-//CDLEX - ECPv6.15.20//NONSGML v1.0//EN
CALSCALE:GREGORIAN
METHOD:PUBLISH
X-ORIGINAL-URL:https://cdlex.org
X-WR-CALDESC:Events for CDLEX
REFRESH-INTERVAL;VALUE=DURATION:PT1H
X-Robots-Tag:noindex
X-PUBLISHED-TTL:PT1H
BEGIN:VTIMEZONE
TZID:America/New_York
BEGIN:DAYLIGHT
TZOFFSETFROM:-0500
TZOFFSETTO:-0400
TZNAME:EDT
DTSTART:20250309T070000
END:DAYLIGHT
BEGIN:STANDARD
TZOFFSETFROM:-0400
TZOFFSETTO:-0500
TZNAME:EST
DTSTART:20251102T060000
END:STANDARD
BEGIN:DAYLIGHT
TZOFFSETFROM:-0500
TZOFFSETTO:-0400
TZNAME:EDT
DTSTART:20260308T070000
END:DAYLIGHT
BEGIN:STANDARD
TZOFFSETFROM:-0400
TZOFFSETTO:-0500
TZNAME:EST
DTSTART:20261101T060000
END:STANDARD
BEGIN:DAYLIGHT
TZOFFSETFROM:-0500
TZOFFSETTO:-0400
TZNAME:EDT
DTSTART:20270314T070000
END:DAYLIGHT
BEGIN:STANDARD
TZOFFSETFROM:-0400
TZOFFSETTO:-0500
TZNAME:EST
DTSTART:20271107T060000
END:STANDARD
END:VTIMEZONE
BEGIN:VEVENT
DTSTART;VALUE=DATE:20260329
DTEND;VALUE=DATE:20260330
DTSTAMP:20260425T081041
CREATED:20260226T192009Z
LAST-MODIFIED:20260226T192009Z
UID:10000231-1774742400-1774828799@cdlex.org
SUMMARY:Palm Sunday
DESCRIPTION:Palm Sunday marks the beginning of Holy Week and commemorates Jesus’ triumphant entry into Jerusalem\, just days before His Passion and death. As He approached the city\, riding humbly on a donkey\, the crowds spread cloaks and palm branches on the road before Him\, shouting with joy\, “Hosanna! Blessed is he who comes in the name of the Lord!” (Mark 11:9). This moment fulfilled the prophecy of Zechariah: “Behold\, your king comes to you; triumphant and victorious is he\, humble and riding on a donkey” (Zechariah 9:9). The people welcomed Him as a king\, yet His kingdom was not one of earthly power\, but of sacrificial love. \nThe liturgy of Palm Sunday holds both triumph and sorrow together. The celebration begins with palms and praise\, but the Gospel soon turns to the reading of the Passion\, recalling Christ’s suffering and crucifixion. The same crowds who cried “Hosanna” would later shout\, “Crucify him!” (Mark 15:13). In this\, the Church invites the faithful to reflect on the mystery of human weakness and divine mercy. Jesus enters Jerusalem knowing the cross awaits Him\, yet He proceeds willingly\, embracing the Father’s will for the salvation of the world. \nPalm Sunday reminds believers that true kingship is revealed through humility and self-giving love. As the faithful carry blessed palms in procession\, they not only remember Christ’s entry into Jerusalem but also welcome Him anew into their own hearts\, preparing to walk with Him through the solemn days of His Passion\, death\, and Resurrection. \nPrayer:Lord Jesus\, You entered Jerusalem in humility and peace\, accepting the path of suffering for our salvation. As we wave our palms and proclaim You as King\, help us to follow You not only in moments of joy\, but also along the way of the Cross. Strengthen our faith\, deepen our love\, and lead us through the sorrow of Holy Week to the glory of Your Resurrection. Amen.
URL:https://cdlex.org/event/palm-sunday/
CATEGORIES:Feast Day
END:VEVENT
END:VCALENDAR